Workbook
Name _Hlk121480086: Definitions!$A$30

Sheet How to Use Tracking Tool
A1: How to Use the Quality Measures Tracking Tool
A2: 1. Familiarize yourself with the measure definitions in the "Definitions" tab
A3: 2. Track your monthly totals for the Quality Meaures in the monthly Tally Sheet for the current year (i.e., Monthly Tally Sheet - 2023)
A4: • Once all 3 months are completed for a given quarter, the Quarter column will automatically tabulate your Quarterly data
A5: 3. At the end of the quarter, transfer your data from the monthly tally sheet to the Quarterly Data sheet in the "Quarterly Data" tab
A6: 4. Use your Quarterly Data to populate the Quality Measures in the AL Quality Measures Data Portal Application

Sheet Definitions
A1: Definitions
A2: Definition of a Fall:
A3: Unintentional change in position coming to rest on the ground, floor or onto the next lower surface. The fall may be witnessed, reported by the client or an observer or identified when a client is found on the floor or ground.
A4: • Falls include any fall, no matter where it occurred.
A5: • Falls are not a result of an overwhelming external force.
A6: • Excludes an intentional descent to the ground of floor.
A7: Definition of Major Injury:
A8: · Bone Fracture
A9: · Joint Dislocation
A10: · Closed head injuries with altered consciousness
A11: · Subdural hematoma
A13: Hospital/Emergency Department Visits Definition
... A31: · Total Doses Given + Doses Ordered but not Given

Sheet Quarterly Data
A1: Year | B1: 2023
A2: Quarter | B2: 1 | C2: 2 | D2: 3 | E2: 4
A3: # of Falls | B3: =COUNTIF('Falls Tracking'!B$3:B$200,"=1") -> 0 | C3: =COUNTIF('Falls Tracking'!B$3:B$200,"=2") -> 0 | D3: =COUNTIF('Falls Tracking'!B$3:B$200,"=3") -> 0 | E3: =COUNTIF('Falls Tracking'!B$3:B$200,"=4") -> 0
A4: # of Falls with Serious Injury | B4: =COUNTIFS('Falls Tracking'!$B$3:$B$200,"=1",'Falls Tracking'!$F$3:$F$200,"=yes") -> 0 | C4: =COUNTIFS('Falls Tracking'!$B$3:$B$200,"=2",'Falls Tracking'!$F$3:$F$200,"=yes") -> 0 | D4: =COUNTIFS('Falls Tracking'!$B$3:$B$200,"=3",'Falls Tracking'!$F$3:$F$200,"=yes") -> 0 | E4: =COUNTIFS('Falls Tracking'!$B$3:$B$200,"=4",'Falls Tracking'!$F$3:$F$200,"=yes") -> 0
A5: # of Hospital/ED Visits | B5: =COUNTIF('Hospital-ED Visit Tracking'!$B3:$B200,"=1") -> 0 | C5: =COUNTIF('Hospital-ED Visit Tracking'!$B3:$B200,"=2") -> 0 | D5: =COUNTIF('Hospital-ED Visit Tracking'!$B3:$B200,"=3") -> 0 | E5: =COUNTIF('Hospital-ED Visit Tracking'!$B3:$B200,"=4") -> 0
A6: # of Medication Errors | B6: =COUNTIF('Med Error Tracking'!$B3:$B200,"=1") -> 0 | C6: =COUNTIF('Med Error Tracking'!$B3:$B200,"=2") -> 0 | D6: =COUNTIF('Med Error Tracking'!$B3:$B200,"=3") -> 0 | E6: =COUNTIF('Med Error Tracking'!$B3:$B200,"=4") -> 0
A7: # of Medication Error Opportunities (pull from records)
A8: # of Contraindications/Allergy Medication Errors | B8: =COUNTIFS('Med Error Tracking'!$B$3:$B$200,"=1",'Med Error Tracking'!$E$3:$E$200,"=Contraindications/Allergy ") -> 0 | C8: =COUNTIFS('Med Error Tracking'!$B$3:$B$200,"=2",'Med Error Tracking'!$E$3:$E$200,"=Contraindications/Allergy ") -> 0 | D8: =COUNTIFS('Med Error Tracking'!$B$3:$B$200,"=3",'Med Error Tracking'!$E$3:$E$200,"=Contraindications/Allergy ") -> 0 | E8: =COUNTIFS('Med Error Tracking'!$B$3:$B$200,"=4",'Med Error Tracking'!$E$3:$E$200,"=Contraindications/Allergy ") -> 0
A9: # of Failure to Administer Medication Errors | B9: =COUNTIFS('Med Error Tracking'!$B$3:$B$200,"=1",'Med Error Tracking'!$E$3:$E$200,"=failure to administer ") -> 0 | C9: =COUNTIFS('Med Error Tracking'!$B$3:$B$200,"=2",'Med Error Tracking'!$E$3:$E$200,"=failure to administer ") -> 0 | D9: =COUNTIFS('Med Error Tracking'!$B$3:$B$200,"=3",'Med Error Tracking'!$E$3:$E$200,"=failure to administer ") -> 0 | E9: =COUNTIFS('Med Error Tracking'!$B$3:$B$200,"=4",'Med Error Tracking'!$E$3:$E$200,"=failure to administer ") -> 0
A10: # of Outside Scheduled Time Medication Errors | B10: =COUNTIFS('Med Error Tracking'!$B$3:$B$200,"=1",'Med Error Tracking'!$E$3:$E$200,"=administer outside scheduled time ") -> 0 | C10: =COUNTIFS('Med Error Tracking'!$B$3:$B$200,"=2",'Med Error Tracking'!$E$3:$E$200,"=administer outside scheduled time ") -> 0 | D10: =COUNTIFS('Med Error Tracking'!$B$3:$B$200,"=3",'Med Error Tracking'!$E$3:$E$200,"=administer outside scheduled time ") -> 0 | E10: =COUNTIFS('Med Error Tracking'!$B$3:$B$200,"=4",'Med Error Tracking'!$E$3:$E$200,"=administer outside scheduled time ") -> 0
A11: # of Over-or Under-Dose Medication Errors | B11: =COUNTIFS('Med Error Tracking'!$B$3:$B$200,"=1",'Med Error Tracking'!$E$3:$E$200,"=over-or under-dose ") -> 0 | C11: =COUNTIFS('Med Error Tracking'!$B$3:$B$200,"=2",'Med Error Tracking'!$E$3:$E$200,"=over-or under-dose ") -> 0 | D11: =COUNTIFS('Med Error Tracking'!$B$3:$B$200,"=3",'Med Error Tracking'!$E$3:$E$200,"=over-or under-dose ") -> 0 | E11: =COUNTIFS('Med Error Tracking'!$B$3:$B$200,"=4",'Med Error Tracking'!$E$3:$E$200,"=over-or under-dose ") -> 0
A12: # of Wrong Technique Medication Errors | B12: =COUNTIFS('Med Error Tracking'!$B$3:$B$200,"=1",'Med Error Tracking'!$E$3:$E$200,"=wrong administration technique ") -> 0 | C12: =COUNTIFS('Med Error Tracking'!$B$3:$B$200,"=2",'Med Error Tracking'!$E$3:$E$200,"=wrong administration technique ") -> 0 | D12: =COUNTIFS('Med Error Tracking'!$B$3:$B$200,"=3",'Med Error Tracking'!$E$3:$E$200,"=wrong administration technique ") -> 0 | E12: =COUNTIFS('Med Error Tracking'!$B$3:$B$200,"=4",'Med Error Tracking'!$E$3:$E$200,"=wrong administration technique ") -> 0

Sheet Falls Tracking
A1: Falls Tracking - 2023
A2: Resident | B2: Quarter | C2: Time of Fall | D2: Day of Week | E2: Fall Location | F2: Serious Injury? | G2: # of Falls in last 12 months | H2: Key Factors Contributing to the Fall (brief description)

Sheet Med Error Tracking
A1: Medication Error Tracking - 2023
A2: Resident | B2: Quarter | C2: Time of Error | D2: Day of Week | E2: Error Category | F2: Serious Injury? | G2: Key Factors Contributing to the Error (brief description)

Sheet Hospital-ED Visit Tracking
A1: Hospital/ED Visit Tracking - 2023
A2: Resident | B2: Quarter | C2: Hospitalization/ED Visit Date | D2: # of Hospitalizations/ED Visits Last 30 days? | E2: Key Contributing Factor to Hospitalization/ED Visit | F2: Description of Key Factor/Root Cause Findings (brief description)

Sheet Drop Downs
A1: Year | B1: Quarter | C1: Time of Fall | D1: Day | E1: Fall Location | F1: Major Injury | G1: # of Falls in Last 12 Months | H1: Error Category | I1: Hospitalization/ED Visit Factors
A2: 2023 | B2: 1 | C2: 0 | D2: Monday | E2: Bedroom (Apartment) | F2: Yes | G2: 0 | H2: Contraindications/Allergy | I2: Lack of Early Identification of Change in Condition
A3: 2024 | B3: 2 | C3: 0.041666667 | D3: Tuesday | E3: Bathroom (Apartment) | F3: No | G3: 1 | H3: Failure to Administer | I3: Care Planning Related Issues
A4: 2025 | B4: 3 | C4: 0.083333333 | D4: Wednesday | E4: Kitchen (Apartment) | G4: 2 | H4: Administer Outside Scheduled Time | I4: Availability/Adequency of Care Support
A5: 2026 | B5: 4 | C5: 0.125 | D5: Thursday | E5: Living Room (Apartment) | G5: 3 | H5: Over-or Under-Dose | I5: Communication/Teamwork
C6: 0.16666667 | D6: Friday | E6: Common Area | G6: 4 | H6: Wrong Administration Technique | I6: Level of Care not Appropriate
C7: 0.20833333 | D7: Saturday | E7: Dining Area | G7: 5 | I7: Other
C8: 0.25 | D8: Sunday | E8: Laundry Area | G8: 6-9
C9: 0.29166667 | E9: Outside | G9: 10-14
C10: 0.33333333 | E10: Public Restroom | G10: 15-19
C11: 0.375 | E11: Hallway | G11: 20-24
C12: 0.41666667 | E12: Doorway | G12: 25+
C13: 0.45833333 | E13: Off Campus
C14: 0.5 | E14: Unknown
C15: 0.54166667 | E15: Other
C16: 0.58333333
C17: 0.625
C18: 0.66666667
C19: 0.70833333
C20: 0.75
C21: 0.79166667
C22: 0.83333333
C23: 0.875
C24: 0.91666667
C25: 0.95833333
